BEGIN:VCALENDAR
VERSION:2.0
PRODID:-//Off The Wall Area of Narcotics Anonymous - ECPv6.15.18//NONSGML v1.0//EN
CALSCALE:GREGORIAN
METHOD:PUBLISH
X-WR-CALNAME:Off The Wall Area of Narcotics Anonymous
X-ORIGINAL-URL:https://www.otwna.org
X-WR-CALDESC:Events for Off The Wall Area of Narcotics Anonymous
REFRESH-INTERVAL;VALUE=DURATION:PT1H
X-Robots-Tag:noindex
X-PUBLISHED-TTL:PT1H
BEGIN:VTIMEZONE
TZID:America/Denver
BEGIN:DAYLIGHT
TZOFFSETFROM:-0700
TZOFFSETTO:-0600
TZNAME:MDT
DTSTART:20240310T090000
END:DAYLIGHT
BEGIN:STANDARD
TZOFFSETFROM:-0600
TZOFFSETTO:-0700
TZNAME:MST
DTSTART:20241103T080000
END:STANDARD
BEGIN:DAYLIGHT
TZOFFSETFROM:-0700
TZOFFSETTO:-0600
TZNAME:MDT
DTSTART:20250309T090000
END:DAYLIGHT
BEGIN:STANDARD
TZOFFSETFROM:-0600
TZOFFSETTO:-0700
TZNAME:MST
DTSTART:20251102T080000
END:STANDARD
BEGIN:DAYLIGHT
TZOFFSETFROM:-0700
TZOFFSETTO:-0600
TZNAME:MDT
DTSTART:20260308T090000
END:DAYLIGHT
BEGIN:STANDARD
TZOFFSETFROM:-0600
TZOFFSETTO:-0700
TZNAME:MST
DTSTART:20261101T080000
END:STANDARD
BEGIN:DAYLIGHT
TZOFFSETFROM:-0700
TZOFFSETTO:-0600
TZNAME:MDT
DTSTART:20270314T090000
END:DAYLIGHT
BEGIN:STANDARD
TZOFFSETFROM:-0600
TZOFFSETTO:-0700
TZNAME:MST
DTSTART:20271107T080000
END:STANDARD
BEGIN:DAYLIGHT
TZOFFSETFROM:-0700
TZOFFSETTO:-0600
TZNAME:MDT
DTSTART:20280312T090000
END:DAYLIGHT
BEGIN:STANDARD
TZOFFSETFROM:-0600
TZOFFSETTO:-0700
TZNAME:MST
DTSTART:20281105T080000
END:STANDARD
END:VTIMEZONE
BEGIN:VEVENT
DTSTART;VALUE=DATE:20250821
DTEND;VALUE=DATE:20260613
DTSTAMP:20260421T112920
CREATED:20251029T041359Z
LAST-MODIFIED:20260113T060325Z
UID:19385-1755734400-1781308799@www.otwna.org
SUMMARY:Women's Retreat of Colorado Narcotics Anonymous - WRCNA XIII August 21 - 23\, 2026
DESCRIPTION:Women’s Retreat of Colorado Narcotics Anonymous – WRCNA XIII \nSAVE THE DATE! \nAugust 21 – 23\, 2026\nLyons\, CO\nwww.wrcna.nacolorado.org
URL:https://www.otwna.org/event/womens-retreat-of-colorado-narcotics-anonymous-wrcna-xiii/
LOCATION:WRCNA\, Lyons\, CO\, United States
ATTACH;FMTTYPE=image/jpeg:https://www.otwna.org/new/wp-content/uploads/2025/10/WRCNA-XIII.jpg
ORGANIZER;CN="WRCNA":MAILTO:chair.wrcna@gmail.com
END:VEVENT
BEGIN:VEVENT
DTSTART;VALUE=DATE:20251110
DTEND;VALUE=DATE:20260402
DTSTAMP:20260421T112920
CREATED:20251111T054208Z
LAST-MODIFIED:20251111T054208Z
UID:19431-1762732800-1775087999@www.otwna.org
SUMMARY:2026 World Service Conference Agenda Report and Survey
DESCRIPTION:2026 World Service Conference \nConference Agenda Report\nna.org/conference \nPlease provide input for literature and service material projects as well as Issue Discussion Topics. \nMembers\, groups\, and service bodies please fill out CAR survey by 1 April 2026.\nna.org/surveys
URL:https://www.otwna.org/event/2026-world-service-conference-agenda-report-and-survey/
ATTACH;FMTTYPE=image/jpeg:https://www.otwna.org/new/wp-content/uploads/2025/11/WSC-CAR-survey-2026-1.jpg
END:VEVENT
BEGIN:VEVENT
DTSTART;VALUE=DATE:20251228
DTEND;VALUE=DATE:20270102
DTSTAMP:20260421T112920
CREATED:20251229T055247Z
LAST-MODIFIED:20251229T055322Z
UID:19464-1766880000-1798847999@www.otwna.org
SUMMARY:SWAG'd Out New Meeting Space
DESCRIPTION:HAPPY TO ANNOUNCE THAT SWAG’D OUT HAS A NEW MEETING SPACE FOR BOTH OF IT’S WEEKLY MEETINGS. BELOW IS THE INFO:\n\nOUR MEETINGS WILL NOW BE HELD AT :\n\nFT. RECOVERY\n1317 WEBSTER AVENUE\nFT. COLLINS\, CO\n80524\n\n“SWAG’D OUT”  MEETING OF NARCOTICS ANONYMOUS\nMEETS TUESDAY NIGHTS @ 7:00PM STARTING 12/23/25 AND EVERY TUESDAY THEREAFTER\n***THE TUESDAY MEETING ON 12/16/25 WILL BE CANCELED DUE TO SCHEDULING CONFLICTS AT THE NEW SPACE.***\n\n“SWAG’N ON SUNDAYS” MEETING OF NARCOTICS ANONYMOUS\nMEETS EVERY SUNDAY @ 12:30PM STARTING 12/14/25 AND EVERY SUNDAY THEREAFTER.\n\nPLEASE UPDATE FUTURE MEETING LISTS TO REFLECT THIS CHANGE IN OUR MEETING SPACE.\n\nTHIS INFORMATION HAS BEEN POSTED TO THE “OTWNA BLAST” AND THE OTW FACEBOOK PAGE.
URL:https://www.otwna.org/event/swagd-out-new-meeting-space/
LOCATION:SWAG’d Out\, 1317 WEBSTER AVENUE\, Fort Collins\, CO\, 80524\, United States
END:VEVENT
BEGIN:VEVENT
DTSTART;TZID=America/Denver:20260319T190000
DTEND;TZID=America/Denver:20270604T200000
DTSTAMP:20260421T112920
CREATED:20241231T185736Z
LAST-MODIFIED:20260313T114137Z
UID:19103-1773946800-1812139200@www.otwna.org
SUMMARY:Steps & Traditions Step Writing Meeting
DESCRIPTION:Steps & Traditions meets at 1401 W Vine in Fort Collins at 7pm every Thursday. \nEvery third Thursday we hold a Step Writing meeting where we devote 30 minutes of the meeting to working on our Step Writing
URL:https://www.otwna.org/event/steps-traditions-step-writing-meeting/
LOCATION:1401 w vine\, 1401 W Vine\, Fort Collins\, CO\, United States
ATTACH;FMTTYPE=application/pdf:https://www.otwna.org/new/wp-content/uploads/2024/12/Step-Writing-Flyer.pdf
END:VEVENT
BEGIN:VEVENT
DTSTART;TZID=America/Denver:20260404T103000
DTEND;TZID=America/Denver:20260404T113000
DTSTAMP:20260421T112920
CREATED:20170624T212909Z
LAST-MODIFIED:20260313T114126Z
UID:1045-1775298600-1775302200@www.otwna.org
SUMMARY:OTW H&I Subcommittee Meeting
DESCRIPTION:H&I meets the Saturday before the ASC at 10:30am.\n\n\n\n\n\n\n\n\n\n\n\n\n\n\n\n\n\n\n\n\n\n\n\n\n\n\n\n\n\n\n\n\n\n\n\n\nYou can join us via Zoom at:\nTopic: OTW H&I Subcomittee\nZoom Link\nMeeting ID: 834 5933 7366\nPasscode: 768932
URL:https://www.otwna.org/event/hi-meeting/
ATTACH;FMTTYPE=image/jpeg:https://www.otwna.org/new/wp-content/uploads/2017/06/HI-Logo.jpg
ORGANIZER;CN="OTW H&I":MAILTO:otwhisub@gmail.com
END:VEVENT
BEGIN:VEVENT
DTSTART;TZID=America/Denver:20260404T160000
DTEND;TZID=America/Denver:20260404T170000
DTSTAMP:20260421T112920
CREATED:20200422T191755Z
LAST-MODIFIED:20260313T114059Z
UID:7298-1775318400-1775322000@www.otwna.org
SUMMARY:OTW PI Subcommittee Meeting
DESCRIPTION:Public Information meets on Zoom on the Saturday before the ASC at 4:00 pm.\n\n\nMeeting Link\n\n\nMeeting ID: 860 8733 2890 \nPasscode: 877920 \n\n 
URL:https://www.otwna.org/event/otw-pi-subcommittee-meeting/
ATTACH;FMTTYPE=image/jpeg:https://www.otwna.org/new/wp-content/uploads/2020/04/PI-Logo.jpg
ORGANIZER;CN="OTW PI Chair":MAILTO:otwpichair@gmail.com
END:VEVENT
BEGIN:VEVENT
DTSTART;TZID=America/Denver:20260405T090000
DTEND;TZID=America/Denver:20260405T120000
DTSTAMP:20260421T112920
CREATED:20251101T162519Z
LAST-MODIFIED:20260313T113957Z
UID:1034-1775379600-1775390400@www.otwna.org
SUMMARY:OTW Area Service Committee Meeting
DESCRIPTION:First Sunday of the month\, in person:\n\nAt Oddfellows Lodge\n2495 E 13th St\, Loveland\, CO 80537\nDoors open at 8:30am Area starts at 9:00am.
URL:https://www.otwna.org/event/otw-asc-meeting/
LOCATION:Oddfellows Lodge\, 2495 E 13th street\, Loveland\, CO\, 80537\, United States
ATTACH;FMTTYPE=image/jpeg:https://www.otwna.org/new/wp-content/uploads/2017/06/Area-Logo-1.jpg
ORGANIZER;CN="OTWASC":MAILTO:otwchair@gmail.com
END:VEVENT
BEGIN:VEVENT
DTSTART;TZID=America/Denver:20260418T093000
DTEND;TZID=America/Denver:20260418T130000
DTSTAMP:20260421T112920
CREATED:20260327T215153Z
LAST-MODIFIED:20260327T215308Z
UID:19537-1776504600-1776517200@www.otwna.org
SUMMARY:NA Colorado Regional Assembly
DESCRIPTION:
URL:https://www.otwna.org/event/na-colorado-regional-assembly/
ATTACH;FMTTYPE=application/pdf:https://www.otwna.org/new/wp-content/uploads/2026/03/Regional-Assembly-Flyer-April-2026.pdf
END:VEVENT
BEGIN:VEVENT
DTSTART;TZID=America/Denver:20260425T170000
DTEND;TZID=America/Denver:20260425T200000
DTSTAMP:20260421T112920
CREATED:20260327T214041Z
LAST-MODIFIED:20260327T214041Z
UID:19530-1777136400-1777147200@www.otwna.org
SUMMARY:WRCNA Bingo Night
DESCRIPTION:
URL:https://www.otwna.org/event/wrcna-bingo-night/
LOCATION:2606 S Sheridan\, 2606 S Sheridan Blvd\, Denver\, CO\, 80227\, United States
ATTACH;FMTTYPE=image/png:https://www.otwna.org/new/wp-content/uploads/2026/03/Blue-Illustrated-Bingo-Night-Facebook-Post.png
END:VEVENT
BEGIN:VEVENT
DTSTART;TZID=America/Denver:20260531T130000
DTEND;TZID=America/Denver:20260531T170000
DTSTAMP:20260421T112920
CREATED:20260403T122105Z
LAST-MODIFIED:20260403T122105Z
UID:19542-1780232400-1780246800@www.otwna.org
SUMMARY:Movie Night
DESCRIPTION:
URL:https://www.otwna.org/event/movie-night/
ATTACH;FMTTYPE=application/pdf:https://www.otwna.org/new/wp-content/uploads/2026/04/Movie-Night-Flyer.pdf
END:VEVENT
BEGIN:VEVENT
DTSTART;TZID=America/Denver:20260613T110000
DTEND;TZID=America/Denver:20260613T150000
DTSTAMP:20260421T112920
CREATED:20260410T142146Z
LAST-MODIFIED:20260410T142146Z
UID:19552-1781348400-1781362800@www.otwna.org
SUMMARY:BBQ in Memory of Karl W
DESCRIPTION:
URL:https://www.otwna.org/event/bbq-in-memory-of-karl-w/
ATTACH;FMTTYPE=application/pdf:https://www.otwna.org/new/wp-content/uploads/2026/04/Friday-NA-Group-BBQ-1.pdf
END:VEVENT
BEGIN:VEVENT
DTSTART;VALUE=DATE:20260821
DTEND;VALUE=DATE:20260824
DTSTAMP:20260421T112920
CREATED:20251011T211506Z
LAST-MODIFIED:20260304T195257Z
UID:19352-1787270400-1787529599@www.otwna.org
SUMMARY:WRCNA's Call for Speakers
DESCRIPTION:
URL:https://www.otwna.org/event/wrcnas-call-for-speakers/
LOCATION:WRCNA\, Lyons\, CO\, United States
ATTACH;FMTTYPE=image/jpeg:https://www.otwna.org/new/wp-content/uploads/2025/10/Copy-of-Speaker-call.jpg
ORGANIZER;CN="WRCNA":MAILTO:chair.wrcna@gmail.com
END:VEVENT
BEGIN:VEVENT
DTSTART;VALUE=DATE:20261113
DTEND;VALUE=DATE:20261116
DTSTAMP:20260421T112920
CREATED:20260405T133430Z
LAST-MODIFIED:20260410T141854Z
UID:19547-1794528000-1794787199@www.otwna.org
SUMMARY:CRCNA XL
DESCRIPTION:
URL:https://www.otwna.org/event/crcna-xl/
ATTACH;FMTTYPE=image/png:https://www.otwna.org/new/wp-content/uploads/2026/04/Image.png
END:VEVENT
END:VCALENDAR